BEGIN:VCALENDAR
VERSION:2.0
PRODID:-//TV-Bronnweiler 1898 e.V. - ECPv6.15.20//NONSGML v1.0//EN
CALSCALE:GREGORIAN
METHOD:PUBLISH
X-ORIGINAL-URL:https://tv-bronnweiler.de
X-WR-CALDESC:Veranstaltungen für TV-Bronnweiler 1898 e.V.
REFRESH-INTERVAL;VALUE=DURATION:PT1H
X-Robots-Tag:noindex
X-PUBLISHED-TTL:PT1H
BEGIN:VTIMEZONE
TZID:UTC
BEGIN:STANDARD
TZOFFSETFROM:+0000
TZOFFSETTO:+0000
TZNAME:UTC
DTSTART:20240101T000000
END:STANDARD
END:VTIMEZONE
BEGIN:VEVENT
DTSTART;VALUE=DATE:20250509
DTEND;VALUE=DATE:20250510
DTSTAMP:20260423T202222
CREATED:20250129T203001Z
LAST-MODIFIED:20250411T173106Z
UID:638-1746748800-1746835199@tv-bronnweiler.de
SUMMARY:Mitgliederversammlung 09. Mai 2025
DESCRIPTION:Weitere Infos folgen
URL:https://tv-bronnweiler.de/event/mitgliederversammlung-09-mai-2025/
LOCATION:Gasthaus Wiesengrund\, Gönningerstr. 42\, Bronnweiler\, Baden-Württemberg\, 72770\, Deutschland
CATEGORIES:Termine
END:VEVENT
END:VCALENDAR