BEGIN:VCALENDAR
VERSION:2.0
PRODID:-//TV-Bronnweiler 1898 e.V. - ECPv6.15.20//NONSGML v1.0//EN
CALSCALE:GREGORIAN
METHOD:PUBLISH
X-ORIGINAL-URL:https://tv-bronnweiler.de
X-WR-CALDESC:Veranstaltungen für TV-Bronnweiler 1898 e.V.
REFRESH-INTERVAL;VALUE=DURATION:PT1H
X-Robots-Tag:noindex
X-PUBLISHED-TTL:PT1H
BEGIN:VTIMEZONE
TZID:UTC
BEGIN:STANDARD
TZOFFSETFROM:+0000
TZOFFSETTO:+0000
TZNAME:UTC
DTSTART:20240101T000000
END:STANDARD
END:VTIMEZONE
BEGIN:VEVENT
DTSTART;TZID=UTC:20250726T123000
DTEND;TZID=UTC:20250726T235900
DTSTAMP:20260423T003709
CREATED:20250129T203253Z
LAST-MODIFIED:20250704T114921Z
UID:642-1753533000-1753574340@tv-bronnweiler.de
SUMMARY:Sport- und Sommerfest mit Beach-Turnier am 26. Juli 2025
DESCRIPTION:Programm
URL:https://tv-bronnweiler.de/event/sport-und-sommerfest-mit-beach-turnier-am-26-juli-2025/
LOCATION:Turnhalle TV Bronnweiler\, Im Wiesatztal 64\, Bronnweiler\, 72770\, Deutschland
CATEGORIES:Termine
END:VEVENT
END:VCALENDAR