BEGIN:VCALENDAR
VERSION:2.0
PRODID:-//TV-Bronnweiler 1898 e.V. - ECPv6.15.20//NONSGML v1.0//EN
CALSCALE:GREGORIAN
METHOD:PUBLISH
X-ORIGINAL-URL:https://tv-bronnweiler.de
X-WR-CALDESC:Veranstaltungen für TV-Bronnweiler 1898 e.V.
REFRESH-INTERVAL;VALUE=DURATION:PT1H
X-Robots-Tag:noindex
X-PUBLISHED-TTL:PT1H
BEGIN:VTIMEZONE
TZID:UTC
BEGIN:STANDARD
TZOFFSETFROM:+0000
TZOFFSETTO:+0000
TZNAME:UTC
DTSTART:20240101T000000
END:STANDARD
END:VTIMEZONE
BEGIN:VEVENT
DTSTART;VALUE=DATE:20251213
DTEND;VALUE=DATE:20251214
DTSTAMP:20260423T112638
CREATED:20250129T203554Z
LAST-MODIFIED:20251208T173539Z
UID:646-1765584000-1765670399@tv-bronnweiler.de
SUMMARY:Weihnachtsfeier am 13. Dezember 2025
DESCRIPTION:
URL:https://tv-bronnweiler.de/event/weihnachtsfeier-am-13-dezember-2025/
LOCATION:Turnhalle TV Bronnweiler\, Im Wiesatztal 64\, Bronnweiler\, 72770\, Deutschland
CATEGORIES:Termine
END:VEVENT
END:VCALENDAR